BEGIN:VCALENDAR
VERSION:2.0
PRODID:-//eventon.com NONSGML v1.0//EN
CALSCALE:GREGORIAN
METHOD:PUBLISH
BEGIN:VEVENT
UID:69ec97435ea7e
DTSTAMP:20260425T102819Z
DTSTART:20250105T000000Z
DTEND:20250105T055900Z
LOCATION:Forest Lake\,  MN
SUMMARY:Knights of Columbus | Catholic Fraternal Organization - Minnesota
DESCRIPTION:\nhttps://jodyfuller.com/events/private-church-event-minnesota/
URL:https://jodyfuller.com/events/private-church-event-minnesota/
END:VEVENT
END:VCALENDAR