BEGIN:VCALENDAR
VERSION:2.0
PRODID:-//eventon.com NONSGML v1.0//EN
CALSCALE:GREGORIAN
METHOD:PUBLISH
BEGIN:VEVENT
UID:69ec96803884d
DTSTAMP:20260425T102504Z
DTSTART:20250117T150000Z
DTEND:20250118T055900Z
LOCATION:Destin\,  FL
SUMMARY:Southeastern Association of School Business Officials
DESCRIPTION:\nhttps://jodyfuller.com/events/southeastern-association-of-sch
 ool-business-officials/
URL:https://jodyfuller.com/events/southeastern-association-of-school-business-officials/
END:VEVENT
END:VCALENDAR