BEGIN:VCALENDAR
VERSION:2.0
PRODID:-//eventon.com NONSGML v1.0//EN
CALSCALE:GREGORIAN
METHOD:PUBLISH
BEGIN:VEVENT
UID:69ebe43b8dfbf
DTSTAMP:20260424T214427Z
DTSTART:20240824T220000Z
DTEND:20240825T035000Z
LOCATION:Americus\,  GA
SUMMARY:Georgia Cooperative Council
DESCRIPTION:\nhttps://jodyfuller.com/events/georgia-cooperative-council-cou
 ples-conference/
URL:https://jodyfuller.com/events/georgia-cooperative-council-couples-conference/
END:VEVENT
END:VCALENDAR