BEGIN:VCALENDAR
VERSION:2.0
PRODID:-//eventon.com NONSGML v1.0//EN
CALSCALE:GREGORIAN
METHOD:PUBLISH
BEGIN:VEVENT
UID:69ed5b95a159b
DTSTAMP:20260426T002557Z
DTSTART:20240305T230000Z
DTEND:20240306T045000Z
LOCATION:Alma\,  GA
SUMMARY:Lions Club
DESCRIPTION:\nhttps://jodyfuller.com/events/citizen-of-the-year-banquet/
URL:https://jodyfuller.com/events/citizen-of-the-year-banquet/
END:VEVENT
END:VCALENDAR