BEGIN:VCALENDAR
VERSION:2.0
PRODID:-//eventon.com NONSGML v1.0//EN
CALSCALE:GREGORIAN
METHOD:PUBLISH
BEGIN:VEVENT
UID:69ec3df573e71
DTSTAMP:20260425T040717Z
DTSTART:20231020T150000Z
DTEND:20231021T035000Z
LOCATION:Columbus\,  GA
SUMMARY:Columbus Board of Realtors
DESCRIPTION:\nhttps://jodyfuller.com/events/columbus-board-of-realtors/
URL:https://jodyfuller.com/events/columbus-board-of-realtors/
END:VEVENT
END:VCALENDAR