BEGIN:VCALENDAR
VERSION:2.0
PRODID:-//eventon.com NONSGML v1.0//EN
CALSCALE:GREGORIAN
METHOD:PUBLISH
BEGIN:VEVENT
UID:69ec95e13d1e5
DTSTAMP:20260425T102225Z
DTSTART:20231025T150000Z
DTEND:20231026T045000Z
LOCATION:Eufaula\,  AL
SUMMARY:Alabama Technology Network
DESCRIPTION:\nhttps://jodyfuller.com/events/alabama-technology-network/
URL:https://jodyfuller.com/events/alabama-technology-network/
END:VEVENT
END:VCALENDAR