BEGIN:VCALENDAR
VERSION:2.0
PRODID:-//eventon.com NONSGML v1.0//EN
CALSCALE:GREGORIAN
METHOD:PUBLISH
BEGIN:VEVENT
UID:69ed7b1191832
DTSTAMP:20260426T024017Z
DTSTART:20230226T000000Z
DTEND:20230226T055000Z
LOCATION:Phil Campbell\,  AL
SUMMARY:Church Banquet
DESCRIPTION:\nhttps://jodyfuller.com/events/church-banquet/
URL:https://jodyfuller.com/events/church-banquet/
END:VEVENT
END:VCALENDAR