BEGIN:VCALENDAR
VERSION:2.0
PRODID:-//eventon.com NONSGML v1.0//EN
CALSCALE:GREGORIAN
METHOD:PUBLISH
BEGIN:VEVENT
UID:69ec0d7feb614
DTSTAMP:20260425T004031Z
DTSTART:20221114T000000Z
DTEND:20221114T085000Z
LOCATION:Anchorage\,  AK
SUMMARY:Veterans Event (Alaska)
DESCRIPTION:\nhttps://jodyfuller.com/events/veterans-event-alaska/
URL:https://jodyfuller.com/events/veterans-event-alaska/
END:VEVENT
END:VCALENDAR