BEGIN:VCALENDAR
VERSION:2.0
PRODID:-//eventon.com NONSGML v1.0//EN
CALSCALE:GREGORIAN
METHOD:PUBLISH
BEGIN:VEVENT
UID:69ecf2dbf00f1
DTSTAMP:20260425T165907Z
DTSTART:20220909T160000Z
DTEND:20220910T030000Z
LOCATION:Braselton\,  GA
SUMMARY:Georgia Marketing\,  Member Services and Communicators group
DESCRIPTION:Georgia Marketing\,  Member Services and Communicators group\nh
 ttps://jodyfuller.com/events/georgia-marketing-member-services-and-communic
 ators-group/
URL:https://jodyfuller.com/events/georgia-marketing-member-services-and-communicators-group/
END:VEVENT
END:VCALENDAR