BEGIN:VCALENDAR
VERSION:2.0
PRODID:-//eventon.com NONSGML v1.0//EN
CALSCALE:GREGORIAN
METHOD:PUBLISH
BEGIN:VEVENT
UID:69ecc73febec2
DTSTAMP:20260425T135303Z
DTSTART:20220504T220000Z
DTEND:20220505T010000Z
LOCATION:Opelika\,  AL
SUMMARY:Trinity Presbyterian Church
DESCRIPTION:Trinity Presbyterian Church\nhttps://jodyfuller.com/events/trin
 ity-presbyterian-church/
URL:https://jodyfuller.com/events/trinity-presbyterian-church/
END:VEVENT
END:VCALENDAR